BEGIN:VCALENDAR
VERSION:2.0
PRODID:-//Association Ballet Bross&#039; - ECPv4.9.1.1//NONSGML v1.0//EN
CALSCALE:GREGORIAN
METHOD:PUBLISH
X-WR-CALNAME:Association Ballet Bross&#039;
X-ORIGINAL-URL:http://www.balletbross.org
X-WR-CALDESC:Évènements pour Association Ballet Bross&#039;
BEGIN:VEVENT
DTSTART;TZID=UTC+1:20170624T163000
DTEND;TZID=UTC+1:20170624T233000
DTSTAMP:20260422T180749
CREATED:20170223T143213Z
LAST-MODIFIED:20170530T162859Z
UID:462-1498321800-1498347000@www.balletbross.org
SUMMARY:Fête de Ballet Bross' !
DESCRIPTION:\nBalade chorégraphique dans Florac : RDV 16h à la Genette Verte (gratuit)\nCommando poétique de Christian Bourigault\, A chacun sa solitude de Pascale et Séverine Parouty\, et d’autres… \nFin de la balade au tribunal pour une dernière visite de l’exposition… \nA partir de 17h30\, stand sérigraphie avec le Service Propagande apportez vos T-shirt ! \nSpectacle à la Genette Verte :\n– 18h30\, 1ère partie du spectacle\, Muriel Marie-Augé\n– 19h30\, grignotte proposé par Ballet Bross’\n– 20h30\, seconde partie du spectacle \n– 21h30\, bal surprise place Maury avec musiciens en live et dj Martine … \nRéservation au près de la Genette Verte (6€) au 04 66 45 23 60 ou par mail : contact@lagenetteverte.fr \n
URL:http://www.balletbross.org/event/fete-de-ballet-bross-2/
LOCATION:La Genette Verte\, 33 avenue Jean Monestier\, Florac\, 48400\, France
CATEGORIES:Evénements
ATTACH;FMTTYPE=image/jpeg:http://www.balletbross.org/wp-content/uploads/2017/02/picasa30ans1.jpg
ORGANIZER;CN="Ballet%20Bross%27":MAILTO:assoballetbross@gmail.com
END:VEVENT
END:VCALENDAR